BEGIN:VCALENDAR
VERSION:2.0
PRODID:-//Tribunal Electoral del Estado de Jalisco - ECPv6.15.11//NONSGML v1.0//EN
CALSCALE:GREGORIAN
METHOD:PUBLISH
X-ORIGINAL-URL:https://www.triejal.gob.mx
X-WR-CALDESC:Eventos para Tribunal Electoral del Estado de Jalisco
REFRESH-INTERVAL;VALUE=DURATION:PT1H
X-Robots-Tag:noindex
X-PUBLISHED-TTL:PT1H
BEGIN:VTIMEZONE
TZID:America/Mexico_City
BEGIN:DAYLIGHT
TZOFFSETFROM:-0600
TZOFFSETTO:-0500
TZNAME:CDT
DTSTART:20160403T080000
END:DAYLIGHT
BEGIN:STANDARD
TZOFFSETFROM:-0500
TZOFFSETTO:-0600
TZNAME:CST
DTSTART:20161030T070000
END:STANDARD
BEGIN:DAYLIGHT
TZOFFSETFROM:-0600
TZOFFSETTO:-0500
TZNAME:CDT
DTSTART:20170402T080000
END:DAYLIGHT
BEGIN:STANDARD
TZOFFSETFROM:-0500
TZOFFSETTO:-0600
TZNAME:CST
DTSTART:20171029T070000
END:STANDARD
BEGIN:DAYLIGHT
TZOFFSETFROM:-0600
TZOFFSETTO:-0500
TZNAME:CDT
DTSTART:20180401T080000
END:DAYLIGHT
BEGIN:STANDARD
TZOFFSETFROM:-0500
TZOFFSETTO:-0600
TZNAME:CST
DTSTART:20181028T070000
END:STANDARD
END:VTIMEZONE
BEGIN:VEVENT
DTSTART;VALUE=DATE:20170901
DTEND;VALUE=DATE:20170902
DTSTAMP:20260424T040523
CREATED:20170831T154034Z
LAST-MODIFIED:20171019T192313Z
UID:10000481-1504224000-1504310399@www.triejal.gob.mx
SUMMARY:Sesión Pública de Resolución
DESCRIPTION:Convocatoria\n				 \n\n\n\n\n\n					Versión estenográfica
URL:https://www.triejal.gob.mx/evento/sesion-publica-de-resolucion-209/
CATEGORIES:Actividades internas,Convocatoria sesión pública de resolución,Eventos extraoficiales
END:VEVENT
BEGIN:VEVENT
DTSTART;VALUE=DATE:20170905
DTEND;VALUE=DATE:20170906
DTSTAMP:20260424T040523
CREATED:20170904T194049Z
LAST-MODIFIED:20171019T195805Z
UID:10000482-1504569600-1504655999@www.triejal.gob.mx
SUMMARY:Sesión Pública de Resolución
DESCRIPTION:Convocatoria\n				 \n\n\n\n\n\n					Versión estenográfica
URL:https://www.triejal.gob.mx/evento/sesion-publica-de-resolucion-210/
CATEGORIES:Actividades internas,Convocatoria sesión pública de resolución,Eventos extraoficiales
END:VEVENT
BEGIN:VEVENT
DTSTART;VALUE=DATE:20170913
DTEND;VALUE=DATE:20170914
DTSTAMP:20260424T040523
CREATED:20170912T200715Z
LAST-MODIFIED:20171019T194919Z
UID:10000193-1505260800-1505347199@www.triejal.gob.mx
SUMMARY:Sesión Pública de Resolución
DESCRIPTION:Convocatoria\n				 \n\n\n\n\n\n					Versión estenográfica
URL:https://www.triejal.gob.mx/evento/sesion-publica-de-resolucion-211/
CATEGORIES:Actividades internas,Convocatoria sesión pública de resolución,Eventos extraoficiales
END:VEVENT
BEGIN:VEVENT
DTSTART;VALUE=DATE:20170920
DTEND;VALUE=DATE:20170921
DTSTAMP:20260424T040523
CREATED:20170919T154912Z
LAST-MODIFIED:20171019T194923Z
UID:10000195-1505865600-1505951999@www.triejal.gob.mx
SUMMARY:Sesión Pública de Resolución
DESCRIPTION:Convocatoria\n				 \n\n\n\n\n\n					Versión estenográfica
URL:https://www.triejal.gob.mx/evento/sesion-publica-de-resolucion-212/
CATEGORIES:Actividades internas,Convocatoria sesión pública de resolución,Eventos extraoficiales
END:VEVENT
END:VCALENDAR