BEGIN:VCALENDAR
VERSION:2.0
PRODID:-//Tribunal Electoral del Estado de Jalisco - ECPv6.15.11//NONSGML v1.0//EN
CALSCALE:GREGORIAN
METHOD:PUBLISH
X-WR-CALNAME:Tribunal Electoral del Estado de Jalisco
X-ORIGINAL-URL:https://www.triejal.gob.mx
X-WR-CALDESC:Eventos para Tribunal Electoral del Estado de Jalisco
REFRESH-INTERVAL;VALUE=DURATION:PT1H
X-Robots-Tag:noindex
X-PUBLISHED-TTL:PT1H
BEGIN:VTIMEZONE
TZID:America/Mexico_City
BEGIN:DAYLIGHT
TZOFFSETFROM:-0600
TZOFFSETTO:-0500
TZNAME:CDT
DTSTART:20160403T080000
END:DAYLIGHT
BEGIN:STANDARD
TZOFFSETFROM:-0500
TZOFFSETTO:-0600
TZNAME:CST
DTSTART:20161030T070000
END:STANDARD
BEGIN:DAYLIGHT
TZOFFSETFROM:-0600
TZOFFSETTO:-0500
TZNAME:CDT
DTSTART:20170402T080000
END:DAYLIGHT
BEGIN:STANDARD
TZOFFSETFROM:-0500
TZOFFSETTO:-0600
TZNAME:CST
DTSTART:20171029T070000
END:STANDARD
BEGIN:DAYLIGHT
TZOFFSETFROM:-0600
TZOFFSETTO:-0500
TZNAME:CDT
DTSTART:20180401T080000
END:DAYLIGHT
BEGIN:STANDARD
TZOFFSETFROM:-0500
TZOFFSETTO:-0600
TZNAME:CST
DTSTART:20181028T070000
END:STANDARD
END:VTIMEZONE
BEGIN:VEVENT
DTSTART;VALUE=DATE:20171005
DTEND;VALUE=DATE:20171006
DTSTAMP:20260424T022755
CREATED:20171004T182434Z
LAST-MODIFIED:20171025T203230Z
UID:10000197-1507161600-1507247999@www.triejal.gob.mx
SUMMARY:Sesión Pública de Resolución
DESCRIPTION:Convocatoria\n				 \n\n\n\n\n\n					Versión estenográfica
URL:https://www.triejal.gob.mx/evento/sesion-publica-de-resolucion-213/
CATEGORIES:Actividades internas,Convocatoria sesión pública de resolución,Eventos extraoficiales
END:VEVENT
BEGIN:VEVENT
DTSTART;VALUE=DATE:20171026
DTEND;VALUE=DATE:20171027
DTSTAMP:20260424T022755
CREATED:20171025T194230Z
LAST-MODIFIED:20180425T214248Z
UID:10000199-1508976000-1509062399@www.triejal.gob.mx
SUMMARY:Sesión Pública de Resolución
DESCRIPTION:Convocatoria \n\n\n\n\nVersión estenográfica \nSesión en Vivo
URL:https://www.triejal.gob.mx/evento/sesion-publica-de-resolucion-214/
CATEGORIES:Actividades internas,Convocatoria sesión pública de resolución,Eventos extraoficiales
END:VEVENT
END:VCALENDAR