BEGIN:VCALENDAR
VERSION:2.0
PRODID:-//Tribunal Electoral del Estado de Jalisco - ECPv6.15.11//NONSGML v1.0//EN
CALSCALE:GREGORIAN
METHOD:PUBLISH
X-WR-CALNAME:Tribunal Electoral del Estado de Jalisco
X-ORIGINAL-URL:https://www.triejal.gob.mx
X-WR-CALDESC:Eventos para Tribunal Electoral del Estado de Jalisco
REFRESH-INTERVAL;VALUE=DURATION:PT1H
X-Robots-Tag:noindex
X-PUBLISHED-TTL:PT1H
BEGIN:VTIMEZONE
TZID:America/Mexico_City
BEGIN:DAYLIGHT
TZOFFSETFROM:-0600
TZOFFSETTO:-0500
TZNAME:CDT
DTSTART:20160403T080000
END:DAYLIGHT
BEGIN:STANDARD
TZOFFSETFROM:-0500
TZOFFSETTO:-0600
TZNAME:CST
DTSTART:20161030T070000
END:STANDARD
BEGIN:DAYLIGHT
TZOFFSETFROM:-0600
TZOFFSETTO:-0500
TZNAME:CDT
DTSTART:20170402T080000
END:DAYLIGHT
BEGIN:STANDARD
TZOFFSETFROM:-0500
TZOFFSETTO:-0600
TZNAME:CST
DTSTART:20171029T070000
END:STANDARD
BEGIN:DAYLIGHT
TZOFFSETFROM:-0600
TZOFFSETTO:-0500
TZNAME:CDT
DTSTART:20180401T080000
END:DAYLIGHT
BEGIN:STANDARD
TZOFFSETFROM:-0500
TZOFFSETTO:-0600
TZNAME:CST
DTSTART:20181028T070000
END:STANDARD
END:VTIMEZONE
BEGIN:VEVENT
DTSTART;VALUE=DATE:20171107
DTEND;VALUE=DATE:20171108
DTSTAMP:20260424T003610
CREATED:20171106T200321Z
LAST-MODIFIED:20180425T223943Z
UID:10000201-1510012800-1510099199@www.triejal.gob.mx
SUMMARY:Sesión Pública de Resolución
DESCRIPTION:Convocatoria \n\n\n\n\nVersión estenográfica \nSesión en Vivo
URL:https://www.triejal.gob.mx/evento/sesion-publica-de-resolucion-215/
CATEGORIES:Actividades internas,Convocatoria sesión pública de resolución,Eventos extraoficiales
END:VEVENT
BEGIN:VEVENT
DTSTART;VALUE=DATE:20171116
DTEND;VALUE=DATE:20171117
DTSTAMP:20260424T003610
CREATED:20171115T174837Z
LAST-MODIFIED:20180426T002655Z
UID:10000203-1510790400-1510876799@www.triejal.gob.mx
SUMMARY:Sesión Pública de Resolución
DESCRIPTION:Convocatoria \n\n\n\n\nVersión estenográfica \nSesión en Vivo
URL:https://www.triejal.gob.mx/evento/sesion-publica-de-resolucion-216/
CATEGORIES:Actividades internas,Convocatoria sesión pública de resolución,Eventos extraoficiales
END:VEVENT
BEGIN:VEVENT
DTSTART;VALUE=DATE:20171128
DTEND;VALUE=DATE:20171129
DTSTAMP:20260424T003610
CREATED:20171127T202900Z
LAST-MODIFIED:20171127T203022Z
UID:10000205-1511827200-1511913599@www.triejal.gob.mx
SUMMARY:Sesión Pública de Resolución
DESCRIPTION:Convocatoria\n				 \n\n\n\n\n\n					Versión estenográfica\n				 \n\n					Sesión en Vivo
URL:https://www.triejal.gob.mx/evento/sesion-publica-de-resolucion-217/
CATEGORIES:Actividades internas,Convocatoria sesión pública de resolución,Eventos extraoficiales
END:VEVENT
END:VCALENDAR