BEGIN:VCALENDAR
VERSION:2.0
PRODID:-//Tribunal Electoral del Estado de Jalisco - ECPv6.15.11//NONSGML v1.0//EN
CALSCALE:GREGORIAN
METHOD:PUBLISH
X-ORIGINAL-URL:https://www.triejal.gob.mx
X-WR-CALDESC:Eventos para Tribunal Electoral del Estado de Jalisco
REFRESH-INTERVAL;VALUE=DURATION:PT1H
X-Robots-Tag:noindex
X-PUBLISHED-TTL:PT1H
BEGIN:VTIMEZONE
TZID:America/Mexico_City
BEGIN:DAYLIGHT
TZOFFSETFROM:-0600
TZOFFSETTO:-0500
TZNAME:CDT
DTSTART:20170402T080000
END:DAYLIGHT
BEGIN:STANDARD
TZOFFSETFROM:-0500
TZOFFSETTO:-0600
TZNAME:CST
DTSTART:20171029T070000
END:STANDARD
BEGIN:DAYLIGHT
TZOFFSETFROM:-0600
TZOFFSETTO:-0500
TZNAME:CDT
DTSTART:20180401T080000
END:DAYLIGHT
BEGIN:STANDARD
TZOFFSETFROM:-0500
TZOFFSETTO:-0600
TZNAME:CST
DTSTART:20181028T070000
END:STANDARD
BEGIN:DAYLIGHT
TZOFFSETFROM:-0600
TZOFFSETTO:-0500
TZNAME:CDT
DTSTART:20190407T080000
END:DAYLIGHT
BEGIN:STANDARD
TZOFFSETFROM:-0500
TZOFFSETTO:-0600
TZNAME:CST
DTSTART:20191027T070000
END:STANDARD
END:VTIMEZONE
BEGIN:VEVENT
DTSTART;VALUE=DATE:20180105
DTEND;VALUE=DATE:20180106
DTSTAMP:20260423T204330
CREATED:20180104T225846Z
LAST-MODIFIED:20180426T002126Z
UID:10000489-1515110400-1515196799@www.triejal.gob.mx
SUMMARY:Sesión Pública de Resolución
DESCRIPTION:Convocatoria \n\n\n\n\nVersión estenográfica \nSesión en Vivo
URL:https://www.triejal.gob.mx/evento/sesion-publica-de-resolucion-225/
CATEGORIES:Actividades internas,Convocatoria sesión pública de resolución,Eventos extraoficiales
END:VEVENT
BEGIN:VEVENT
DTSTART;VALUE=DATE:20180109
DTEND;VALUE=DATE:20180110
DTSTAMP:20260423T204330
CREATED:20180108T215739Z
LAST-MODIFIED:20180426T002035Z
UID:10000490-1515456000-1515542399@www.triejal.gob.mx
SUMMARY:Sesión Pública de Resolución
DESCRIPTION:Convocatoria \n\n\n\n\nConvocatoria Complementaria \n\n\n\n\nVersión estenográfica \nSesión en Vivo
URL:https://www.triejal.gob.mx/evento/sesion-publica-de-resolucion-226/
CATEGORIES:Actividades internas,Convocatoria sesión pública de resolución,Eventos extraoficiales
END:VEVENT
BEGIN:VEVENT
DTSTART;VALUE=DATE:20180111
DTEND;VALUE=DATE:20180112
DTSTAMP:20260423T204330
CREATED:20180110T213340Z
LAST-MODIFIED:20180426T001945Z
UID:10000491-1515628800-1515715199@www.triejal.gob.mx
SUMMARY:Sesión Pública de Resolución
DESCRIPTION:Convocatoria \n\n\n\n\nVersión estenográfica \nSesión en Vivo
URL:https://www.triejal.gob.mx/evento/sesion-publica-de-resolucion-227/
CATEGORIES:Actividades internas,Convocatoria sesión pública de resolución,Eventos extraoficiales
END:VEVENT
BEGIN:VEVENT
DTSTART;VALUE=DATE:20180118
DTEND;VALUE=DATE:20180119
DTSTAMP:20260423T204330
CREATED:20180117T224533Z
LAST-MODIFIED:20180426T001830Z
UID:10000492-1516233600-1516319999@www.triejal.gob.mx
SUMMARY:Sesión Pública de Resolución
DESCRIPTION:Convocatoria \n\n\n\n\nConvocatoria Complementaria \n\n\n\n\nVersión estenográfica \nSesión en Vivo
URL:https://www.triejal.gob.mx/evento/sesion-publica-de-resolucion-228/
CATEGORIES:Actividades internas,Convocatoria sesión pública de resolución,Eventos extraoficiales
END:VEVENT
BEGIN:VEVENT
DTSTART;VALUE=DATE:20180122
DTEND;VALUE=DATE:20180123
DTSTAMP:20260423T204330
CREATED:20180119T225515Z
LAST-MODIFIED:20180426T001723Z
UID:10000493-1516579200-1516665599@www.triejal.gob.mx
SUMMARY:Sesión Pública de Resolución
DESCRIPTION:Convocatoria \n\n\n\n\nVersión estenográfica \nSesión en Vivo
URL:https://www.triejal.gob.mx/evento/sesion-publica-de-resolucion-229/
CATEGORIES:Actividades internas,Convocatoria sesión pública de resolución,Eventos extraoficiales
END:VEVENT
BEGIN:VEVENT
DTSTART;VALUE=DATE:20180130
DTEND;VALUE=DATE:20180131
DTSTAMP:20260423T204330
CREATED:20180129T233951Z
LAST-MODIFIED:20180426T001556Z
UID:10000494-1517270400-1517356799@www.triejal.gob.mx
SUMMARY:Sesión Pública de Resolución
DESCRIPTION:Convocatoria \n\n\n\n\nVersión estenográfica \nSesión en Vivo
URL:https://www.triejal.gob.mx/evento/sesion-publica-de-resolucion-230/
CATEGORIES:Actividades internas,Convocatoria sesión pública de resolución,Eventos extraoficiales
END:VEVENT
END:VCALENDAR